BEGIN:VCALENDAR
VERSION:2.0
PRODID:-//Eventin//Event Calendar//EN
CALSCALE:GREGORIAN
METHOD:PUBLISH
BEGIN:VEVENT
UID:90aeffc0e0f0612474e8779d82a065ca@www.foto-schneider-shop.at
SUMMARY:Fotoreise Northumbria & Lake District
DESCRIPTION:Jetzt Ticket sichern\nHadrians Wall – Ein Band durch Zeit und
  Landschaft\nInmitten der eindrucksvollen Landschaft Northumbrias verläuft
  der 117 Kilometer lange Hadrians Wall. Dieses monumentale Bauwerk aus der 
 Römerzeit schlängelt sich durch sanfte Hügel\, raue Felder und offene We
 iten und markierte einst die nördliche Grenze des römischen Reiches. Erba
 ut im 2. Jahrhundert n. Chr. war der Wall nicht nur eine militärische Befe
 stigung\, sondern auch ein starkes Symbol für Macht und Einfluss.\nGeschic
 hte erleben\, Natur sehen\, Fotografie fühlen\nEine Reise entlang des Hadr
 ians Wall ist wie ein Schritt zurück in vergangene Zeiten. Die Spuren der 
 Geschichte sind spürbar – in alten Ruinen\, idyllischen Dörfern und imp
 osanten Burgen. Gleichzeitig beeindruckt die Naturkulisse: wilde Küstenlin
 ien\, dichte Wälder und weite Landschaften schaffen eine besondere fotogra
 fische Atmosphäre. Northumbria ist kein Schauplatz\, sondern ein lebendige
 s Zeugnis seiner Geschichte – reich an Motiven\, Perspektiven und Momente
 n.\nTeilnehmer: 4 – 7 Personen\nARR-Foto- Reiseleitung: Robert Pichler\nI
 nkludierte Leistungen:\n\nFahrten und Transfers mit Kleinbussen oder Vans (
 vom Reiseleiter gelenkt)\n7 x Nächtigung in kleinen Hotels\nVerpflegung au
 f Basis Frühstück vom 2. – 8. Tag\nARR-Foto- Reiseleitung Robert Pichle
 r\n\nNicht inkludierte Leistungen:\n\nFlug Wien – Newcastle / Manchester 
 – Wien inkl. Taxen und Gebühren (Richtpreis\, ca. € 320\,-)(andere Abf
 lüge auf Anfrage)\nEintritte und Bootsfahrten\nVerpflegung außer Frühst
 ück\nPersönliche Reise- und Stornoversicherung\n\n Jetzt Ticket sichern
LOCATION:Online
DTSTAMP:20260423T230905Z
DTSTART:20260526T220000Z
DTEND:20260603T215500Z
END:VEVENT
END:VCALENDAR
