BEGIN:VCALENDAR
VERSION:2.0
PRODID:-//Eventin//Event Calendar//EN
CALSCALE:GREGORIAN
METHOD:PUBLISH
BEGIN:VEVENT
UID:3d5a67cc4c3c17231a5a841e095acf09@www.foto-schneider-shop.at
SUMMARY:“Porträts voller Emotion“-Foto-Workshop für Einsteiger und Au
 fsteiger
DESCRIPTION:Datum: 25.4.2026\nUhrzeit: 09:00 - 13:00 Uhr\nOrt: Foto Schneid
 er Studio\nKosten: 90€\n Jetzt Ticket sichern\nIn diesem Foto-Workshop en
 thüllen wir die Geheimnisse beeindruckender Porträts. Wirlernen die wicht
 igsten Kamera-Einstellungen\, tauchen in die Bildsprache emotionalerPorträ
 ts ein und trainieren\, Menschen zu motivieren. Der richtige Einsatz von Li
 cht undSchatten ist die Grundlage ausdruckstarker Porträts. Und so werden 
 wir sowohl dieGeheimnisse des natürlichen Lichts wie auch des künstlichen
  erforschen.\nInhalte:• Kamera optimal einstellen• Menschen ins beste L
 icht rücken• Menschen motivieren• Licht spielerisch setzen
LOCATION:Foto Schneider Baden
DTSTAMP:20260423T230905Z
DTSTART:20260425T070000Z
DTEND:20260425T110000Z
END:VEVENT
END:VCALENDAR
