BEGIN:VCALENDAR
VERSION:2.0
PRODID:-//Eventin//Event Calendar//EN
CALSCALE:GREGORIAN
METHOD:PUBLISH
BEGIN:VEVENT
UID:6c107fbfd269030899cb3913a36aff46@www.foto-schneider-shop.at
SUMMARY:Badner Fototage 2026
DESCRIPTION:Auch in 2026 kommen tolle Workshops auf euch zu....natürlich k
 ostenlos.\nIn Zusammenarbeit mit dem Österreichischen Verband der Fotograf
 ie erstellen wir für euch ein spannendes 2-tägiges Programm. Egal ob Anf
 änger oder Profi\, es ist für jeden etwas dabei!\nProgramm wir noch erste
 llt....bleibt gespannt....
LOCATION:Foto Schneider Baden
DTSTAMP:20260419T122624Z
DTSTART:20260918T060000Z
DTEND:20260919T180000Z
END:VEVENT
END:VCALENDAR
