BEGIN:VCALENDAR
VERSION:2.0
PRODID:-//Eventin//Event Calendar//EN
CALSCALE:GREGORIAN
METHOD:PUBLISH
BEGIN:VEVENT
UID:8172cc6a380a17641ecc98194e9ef3a4@www.foto-schneider-shop.at
SUMMARY:Red Stag Enduro Extreme
DESCRIPTION:[vc_row][vc_column][vc_empty_space][vc_column_text]\nDer RED ST
 AG ENDURO EXTREME Motorsport Tagesworkshop \n[/vc_column_text][/vc_column][
 /vc_row][vc_row][vc_column width="1/2"][vc_empty_space][vc_column_text]\nWO
 ? RED STAG | Rohr im Gebirge - Niederösterreich\n[/vc_column_text][vc_emp
 ty_space][vc_btn title="Jetzt anmelden" style="custom" custom_background="#
 c80000" custom_text="#ffffff" link="url:https%3A%2F%2Fwww.fuernholzer-photo
 graphy.com%2Ffotoworkshop-red-stag"][vc_empty_space][/vc_column][vc_column 
 width="1/2"][vc_empty_space][vc_column_text]\nTermine:\n15.06.2024\n06.07.2
 024\n07.09.2024\n05.10.2024\n26.10.2024\n[/vc_column_text][/vc_column][/vc_
 row][vc_row][vc_column width="1/2"][vc_single_image image="173633" img_size
 ="full" alignment="center"][vc_empty_space height="16px"][/vc_column][vc_co
 lumn width="1/2"][vc_single_image image="173648" img_size="full" alignment=
 "center"][vc_empty_space height="16px"][/vc_column][/vc_row][vc_row][vc_col
 umn][vc_column_text]\nDer Ablauf: \n\n	Zutritt zum RED STAG ENDURO EXTREME
  Gelände\, Fahrerlager und Trails unter: www.enduro-extreme.com\n	Media-A
 kkreditierung für Fotograf:innen inkl. Ausstattung mit Media-Signalwesten\
 n	Sicherheitseinweisung\, Verhaltensinstruktion und Briefing im Fahrerlager
  und anschließend direkt auf der Trainingsstrecke und den einzelnen Trails
  / Parcours - verpflichtende Teilnahme!\n	Einführung in die Motorsportfoto
 grafie auf dem Gelände und in den Trails / Parcours - kurzer Theorieteil\,
  langer Praxisteil\n	Anpassung der Kameraeinstellungen und Setting des Aufn
 ahmeequipments\n	Fotografisches Coaching in Theorie und Praxis durch Christ
 ian Fürnholzer - Berufsfotograf\n	Einführung in die gängigen Fokussier- 
 und Belichtungseinstellungen sowie Kamerasettings (markenneutral) für dyna
 mische Aufnahmen und von sich schnell bewegenden Motiven etc.\n	Erarbeiten 
 von Bildkompositionen unter Einbeziehung von Betrachtungswinkel\, Blende un
 d Brennweite\n	Umsetzung direkt in den Trails mit ganztägiger Anwesenheit 
 und Support des Coaches\n	Ruhezeit für Motoren und Mittagspause von 12:00 
 bis 13:00 Uhr\n	Ende der Motorsportveranstaltung ist um 16:00 Uhr\n	Auf Wun
 sch der Teilnehmer:innen - Analyse und Bildbesprechung mit Bearbeitungstipp
 s im Fahrerlager\n	Ende des Workshops um 17:00 Uhr mit Übergabe der Teiln
 ahmeurkunden\n\nDieser Workshop inkludiert auf Wunsch eine Mitfahrgelegenhe
 it - wir fahren zu den besten Spots! Gutes Schuhwerk und "Geländegängingk
 eit" wird trotzdem empfohlen.\n \nUm die Qualität unserer Workshops hoch 
 zu halten und genügend Coachingzeit für die Teilnehmer:innen einzuräumen
  ist die Teilnehmerzahl auf max. 3 Teilnehmer:innen limitiert!\nBuchen Sie 
 rechtzeitig oder lassen Sie sich auf die Warteliste setzen.\n \n[/vc_colum
 n_text][/vc_column][/vc_row]
LOCATION:Online
DTSTAMP:20260424T051812Z
DTSTART:20240615T060000Z
DTEND:20260424T150000Z
END:VEVENT
END:VCALENDAR
