BEGIN:VCALENDAR
VERSION:2.0
PRODID:-//Eventin//Event Calendar//EN
CALSCALE:GREGORIAN
METHOD:PUBLISH
BEGIN:VEVENT
UID:7bc7f55a49039bace251bd37a9cfca38@www.foto-schneider-shop.at
SUMMARY:Einführung in die professionelle Nutzung von Blitzlicht in der Fot
 ografie
DESCRIPTION:Blitzworkshop - ADVANCED\nHard Facts\nWann? 25. Mai 2024\, 09:0
 0 – 13:00 Uhr\nWo? Rock Art Studio  - Foto Schneider – Baden bei Wien\
 nKosten? Euro 120\,00 inkl. 20% Mwst. (Mwst. wird auf der Rechnung ausgewie
 sen)\nProfessionelle Nutzung von Blitzgeräten\, Verständnis der technisch
 en Möglichkeiten sowie die Demonstration der erweiterten Handhabung von Bl
 itzgeräten und von Lichtformern\nDas erwartet dich\n\n	Kurzwiederholung un
 d Fragerunde vom Vortag sowie Abgleich der Basisinfos für neue Teilnehmer\
 n	Erweiterte Einführung in die Lichttheorie\n	Kreativer Einsatz von Layern
  in der Blitzfotografie\n	Kreativer Einsatz von bewusst „falsch“ einges
 tellten Weißabgleich\n	Nutzung von Farbkorrektur- und Farbfilterfolien\n	S
 onnenlicht „künstlich“ erzeugen (Outdoor)\n	Vorstellung von verschiede
 nen Lichtformern um das Licht gezielt einzusetzen\n	Praxisanwendung mit Nut
 zung verschiedener Blitzgeräte und verschiedener Lichtformer im Studio und
  wenn es das Wetter zulässt Outdoor mit Model Nicole*\n	Wir nutzen dabei p
 raktikable Lichtformer an funkferngesteuerten Blitzen mit Snoots\, Waben (G
 rids)\, Reflektoren\, Silks und Softboxen\n\n*Die beim Workshop produzierte
 n Bilder mit Nicole dürfen für das private Portfolio und auch in Social M
 edia Kanälen genutzt   werden. Eine kommerzielle Nutzung oder Verwertung
  ist untersagt.\nJetzt buchen
LOCATION:Online
DTSTAMP:20260424T051812Z
DTSTART:20240525T070000Z
DTEND:20260424T110000Z
END:VEVENT
END:VCALENDAR
